BEGIN:VCALENDAR
PRODID:-//Google Inc//Google Calendar 70.9054//EN
VERSION:2.0
CALSCALE:GREGORIAN
BEGIN:VEVENT
TRANSP:OPAQUE
X-APPLE-TRAVEL-ADVISORY-BEHAVIOR:AUTOMATIC
LOCATION:Online
DESCRIPTION:We will delve into the essential role of personal branding in leadership. In today's dynamic environment\, leaders must cultivate a brand that resonates with employees\, clients\, and stakeholders\, fostering trust and belief through openness\, authenticity\, and transparency. Our distinguished guest\, Terence Barry\, brings a wealth of expertise in guiding leaders worldwide to enhance their communication by crafting impactful stories. As a visiting faculty member at RSM Erasmus University\, Terence combines academic insight with practical experience to offer unique perspectives on personal branding.<br><br>

Following Terence's engaging introductory interview\, participants will join moderated breakout sessions. These discussions will provide a platform to reflect on your own leadership brand and share communication experiences with peers. Don't miss this chance to gain valuable insights and strengthen your leadership presence. 
DTSTART:20260701T150000Z
DTEND:20260701T163000Z
SUMMARY:The Leader as a Brand
URL;VALUE=URI:https://www.elpdialogues.com/dialogue/720/
DTSTAMP:20260424T132054Z
UID:69eb6e360450c
END:VEVENT
END:VCALENDAR