BEGIN:VCALENDAR
PRODID:-//Google Inc//Google Calendar 70.9054//EN
VERSION:2.0
CALSCALE:GREGORIAN
BEGIN:VEVENT
TRANSP:OPAQUE
X-APPLE-TRAVEL-ADVISORY-BEHAVIOR:AUTOMATIC
LOCATION:Taets Art and Event Park
DESCRIPTION:With selected ELP Members we will participate in the Amsterdam Business Forum 2026\, an annual ‘pop festival’ for leadership\, where internationally acclaimed leaders and experts will give their visions on the necessity of people-centered leadership. Speakers this year include Jacinda Ardern (former Prime Minister New Zealand)\, Steven Bartlett (host of Europe’s #1 podcast The Diary of a CEO)\, and Seth Godin (a leadership and marketing authority). For the full program see <a href="https://www.denkproducties.nl/seminars/amsterdam-business-forum-2026?gad_source=1&gad_campaignid=23354480315&gclid=CjwKCAiAs4HMBhBJEiwACrfNZQD2_JkyiHwCgZ7586uve3FZwB4beSgR9sX_MmT21v2DRDSWHsQvJxoCGrMQAvD_BwE"> Amsterdam Business Forum 2026</a>. Expect lively shows for an audience of 3000. We will have our separate ELP Lounge\, in which we can meet during the breaks to reflect on what we have heard and seen. Normal fee is €1195\, with ELP Discount it is €825 (both ex VAT). 
DTSTART:20260918T073000Z
DTEND:20260918T151500Z
SUMMARY:ELP goes ABF
URL;VALUE=URI:https://www.elpdialogues.com/dialogue/723/
DTSTAMP:20260424T131718Z
UID:69eb6d5e9d32b
END:VEVENT
END:VCALENDAR