BEGIN:VCALENDAR
PRODID:-//Google Inc//Google Calendar 70.9054//EN
VERSION:2.0
CALSCALE:GREGORIAN
BEGIN:VEVENT
TRANSP:OPAQUE
X-APPLE-TRAVEL-ADVISORY-BEHAVIOR:AUTOMATIC
LOCATION:Online
DESCRIPTION:How can leaders unlock innovation and genius to prepare their organizations for the future? How can they create the internal conditions and external practices that allow them to listen to\, and act upon\, the whispers of the future? We will dive into this important topic with Robin Alfred as our keynote guest. Robin is a seasoned educator and facilitator from Findhorn\, Scotland\; he is convinced that the inner state of leaders determines their effectiveness. He is working on a book\, which has ‘Emergent Leadership’ as its working title. After the plenary interview with Robin participants will engage in moderated breakouts.
DTSTART:20261102T160000Z
DTEND:20261102T173000Z
SUMMARY:Leading From the Future
URL;VALUE=URI:https://www.elpdialogues.com/dialogue/724/
DTSTAMP:20260424T131734Z
UID:69eb6d6eef7b7
END:VEVENT
END:VCALENDAR