BEGIN:VCALENDAR
PRODID:-//Google Inc//Google Calendar 70.9054//EN
VERSION:2.0
CALSCALE:GREGORIAN
BEGIN:VEVENT
TRANSP:OPAQUE
X-APPLE-TRAVEL-ADVISORY-BEHAVIOR:AUTOMATIC
LOCATION:De Veranda Amsterdam
DESCRIPTION:What does it take to lead large organizations effectively? In this ELP Leadership Dialogue\, we shine the spotlight on Jean Francois van Boxmeer. He is Chairman of Vodafone\, Heineken Holding\, The Magnum Ice Cream Company\, and the European Round Table for Industry (ERT)\, and former CEO of Heineken (2005-2020). This session offers a unique opportunity to explore the leadership lessons Jean-Francois has gained over the years. Following the plenary interview\, participants will engage in intimate moderated Dialogue to reflect on their own leadership paths.
DTSTART:20261005T150000Z
DTEND:20261005T190000Z
SUMMARY:Leader in the Spotlight: Jean-Francois van Boxmeer
URL;VALUE=URI:https://www.elpdialogues.com/dialogue/725/
DTSTAMP:20260424T131759Z
UID:69eb6d87de38a
END:VEVENT
END:VCALENDAR