BEGIN:VCALENDAR
PRODID:-//Google Inc//Google Calendar 70.9054//EN
VERSION:2.0
CALSCALE:GREGORIAN
BEGIN:VEVENT
TRANSP:OPAQUE
X-APPLE-TRAVEL-ADVISORY-BEHAVIOR:AUTOMATIC
LOCATION:PwC
DESCRIPTION:For the first time ever\, ELP is hosting an exclusive Community Event. Gather with fellow leaders to reflect on the defining moments of 2026\, extract crucial leadership lessons\, and set your compass for 2027.<br><br>

This is not your typical networking event. We've designed an intimate evening that celebrates what we've built together through our Leadership Dialogues. Walk among posters featuring every keynote speaker from 2026\, reconnect with peers who've challenged your thinking\, and participate in an Information Market where you choose your own learning journey: deep dialogues on personal insights\, dilemma labs\, speed dating with fellow members\, or direct conversations with our guest speakers.<br><br>

Expect conversation\, connection\, and genuine discovery. PwC\, one of ELP's organizational members\, has graciously agreed to host this event at their premises.
DTSTART:20261215T163000Z
DTEND:20261215T203000Z
SUMMARY:ELP Community Event: Reflecting on 2026\, Shaping 2027
URL;VALUE=URI:https://www.elpdialogues.com/dialogue/726/
DTSTAMP:20260424T131718Z
UID:69eb6d5e9bc8b
END:VEVENT
END:VCALENDAR