BEGIN:VCALENDAR
PRODID:-//Google Inc//Google Calendar 70.9054//EN
VERSION:2.0
CALSCALE:GREGORIAN
BEGIN:VEVENT
TRANSP:OPAQUE
X-APPLE-TRAVEL-ADVISORY-BEHAVIOR:AUTOMATIC
LOCATION:De Kazerne Eindhoven
DESCRIPTION:In her search for the essence of leadership\, author Dominique Haijtema interviewed a remarkable range of thought leaders and practitioners\, including Simon Sinek\, Madeleine Albright\, Desmond Tutu\, Stephen Covey\, Ingvar Kamprad\, Amy Edmondson\, Yuval Noah Harari\, Ricardo Semler\, Brené Brown\, and many others. In this ELP Leadership Dialogue\, Dominique will share the insights she gathered from these conversations\, guiding us toward what she considers the Holy Grail of leadership. Following the introductory interview\, participants will have the opportunity to explore and reflect on their own leadership journeys in moderated Dialogues to deepen their understanding of what it means to lead authentically.<br><br>

You can find a review of Dominique’s book on <a href="https://www.elpdialogues.com/news-item/the-holy-grail-of-leadership/">www.elpdialogues.com</a>.
DTSTART:20260520T150000Z
DTEND:20260520T190000Z
SUMMARY:The Holy Grail of Leadership
URL;VALUE=URI:https://www.elpdialogues.com/dialogue/727/
DTSTAMP:20260424T131734Z
UID:69eb6d6eeb13d
END:VEVENT
END:VCALENDAR